BEGIN:VCALENDAR
VERSION:2.0
PRODID:-//Cedarkirk Camp &amp; Conference Center - ECPv6.15.17//NONSGML v1.0//EN
CALSCALE:GREGORIAN
METHOD:PUBLISH
X-WR-CALNAME:Cedarkirk Camp &amp; Conference Center
X-ORIGINAL-URL:https://cedarkirk.org
X-WR-CALDESC:Events for Cedarkirk Camp &amp; Conference Center
REFRESH-INTERVAL;VALUE=DURATION:PT1H
X-Robots-Tag:noindex
X-PUBLISHED-TTL:PT1H
BEGIN:VTIMEZONE
TZID:America/New_York
BEGIN:DAYLIGHT
TZOFFSETFROM:-0500
TZOFFSETTO:-0400
TZNAME:EDT
DTSTART:20200308T070000
END:DAYLIGHT
BEGIN:STANDARD
TZOFFSETFROM:-0400
TZOFFSETTO:-0500
TZNAME:EST
DTSTART:20201101T060000
END:STANDARD
BEGIN:DAYLIGHT
TZOFFSETFROM:-0500
TZOFFSETTO:-0400
TZNAME:EDT
DTSTART:20210314T070000
END:DAYLIGHT
BEGIN:STANDARD
TZOFFSETFROM:-0400
TZOFFSETTO:-0500
TZNAME:EST
DTSTART:20211107T060000
END:STANDARD
BEGIN:DAYLIGHT
TZOFFSETFROM:-0500
TZOFFSETTO:-0400
TZNAME:EDT
DTSTART:20220313T070000
END:DAYLIGHT
BEGIN:STANDARD
TZOFFSETFROM:-0400
TZOFFSETTO:-0500
TZNAME:EST
DTSTART:20221106T060000
END:STANDARD
END:VTIMEZONE
BEGIN:VEVENT
DTSTART;VALUE=DATE:20210101
DTEND;VALUE=DATE:20220101
DTSTAMP:20260425T230424
CREATED:20210406T161010Z
LAST-MODIFIED:20210406T165717Z
UID:7839-1609459200-1640995199@cedarkirk.org
SUMMARY:StoryShare
DESCRIPTION:Cedarkirk’s story is the collection of stories held by the people who have built this place\, shaped this place\, and grown to call it home. After 50 years of ministry\, there are plenty of stories to share. The stories bind us together and allow us all to share in the big picture of Cedarkirk’s ministry. \nThat’s where you come in: we want to hear your stories! We want to hear them all – the funny ones and the ones that bring a tear to your eye. You can share about the ways Cedarkirk changed your life or just a vivid memory that really stands out in your mind. \nYou don’t have to be the world’s greatest speaker – we just want to hear your experience in your own words. (See the “Helpful Hints” section below to make your story the best it can be!) Our goal is to piece these stories together into a video about the way Cedarkirk has helped people draw closer to God and to one another over the last half-century. \nHow to participate: \n\nThink of a story or memory from your time at Cedarkirk.\nWrite it down or run through it a few times so it’s fresh in your head.\nRecord yourself (or have someone record you) telling the story.\nEmail the file to stories@cedarkirk.com. Include your name and a few sentences about your association with Cedarkirk (when you attended\, who you came with\, etc.).\n\nHelpful Hints: \n\nBe mindful of your pacing and speak slowly – many people speak too quickly on camera. If it feels a little slow to you\, it’s probably just right.\nEnunciate your words clearly. We won’t be able to share your story if we can’t understand what you’re saying!\nBe animated! The more excited and engaged you seem\, the better your story will translate to video.\nFeel free to write your story down\, but remember that you’ll be on video\, so you do need to look at the camera from time to time. (You can print some key words in large letters and post it next to your camera so it appears you’re looking straight at the screen. There are also free “teleprompter” apps you can download to your computer or smartphone so you can read and still look at the camera.)\nTry to avoid rambling and keep your video to a few minutes or less. We’ll do some editing\, but we’d love it if you could keep it brief.\nEnsure your background is exciting\, but not too distracting. (If you don’t want everyone seeing the unfolded laundry on your couch\, maybe step outside for a more natural setting.)\nIf you’re filming on a smartphone\, make sure you are filming horizontally\, with the phone turned sideways. We can’t use videos filmed vertically!\nDo a very quick test video to make sure you can be heard clearly and aren’t too far away from the microphone.\nHave fun! If you’re excited about your story the viewer will be\, too!
URL:https://cedarkirk.org/event/storyshare/
LOCATION:FL
CATEGORIES:All Ages
ATTACH;FMTTYPE=image/png:https://cedarkirk.org/wp-content/uploads/2021/04/StoryShare-Header.png
END:VEVENT
END:VCALENDAR