BEGIN:VCALENDAR
VERSION:2.0
PRODID:-//Cedarkirk Camp &amp; Conference Center - ECPv6.15.17//NONSGML v1.0//EN
CALSCALE:GREGORIAN
METHOD:PUBLISH
X-ORIGINAL-URL:https://cedarkirk.org
X-WR-CALDESC:Events for Cedarkirk Camp &amp; Conference Center
REFRESH-INTERVAL;VALUE=DURATION:PT1H
X-Robots-Tag:noindex
X-PUBLISHED-TTL:PT1H
BEGIN:VTIMEZONE
TZID:America/New_York
BEGIN:DAYLIGHT
TZOFFSETFROM:-0500
TZOFFSETTO:-0400
TZNAME:EDT
DTSTART:20190310T070000
END:DAYLIGHT
BEGIN:STANDARD
TZOFFSETFROM:-0400
TZOFFSETTO:-0500
TZNAME:EST
DTSTART:20191103T060000
END:STANDARD
BEGIN:DAYLIGHT
TZOFFSETFROM:-0500
TZOFFSETTO:-0400
TZNAME:EDT
DTSTART:20200308T070000
END:DAYLIGHT
BEGIN:STANDARD
TZOFFSETFROM:-0400
TZOFFSETTO:-0500
TZNAME:EST
DTSTART:20201101T060000
END:STANDARD
BEGIN:DAYLIGHT
TZOFFSETFROM:-0500
TZOFFSETTO:-0400
TZNAME:EDT
DTSTART:20210314T070000
END:DAYLIGHT
BEGIN:STANDARD
TZOFFSETFROM:-0400
TZOFFSETTO:-0500
TZNAME:EST
DTSTART:20211107T060000
END:STANDARD
END:VTIMEZONE
BEGIN:VEVENT
DTSTART;TZID=America/New_York:20201106T160000
DTEND;TZID=America/New_York:20201108T140000
DTSTAMP:20260422T155055
CREATED:20200731T150400Z
LAST-MODIFIED:20201021T175234Z
UID:7241-1604678400-1604844000@cedarkirk.org
SUMMARY:A Weekend Apart
DESCRIPTION:We are excited to provide an opportunity for families and individuals to spend three special weekends at Cedarkirk this summer! Our offerings will be almost entirely self-contained for all to spend time in the outdoors and quality time in a new setting. \nWhat does a Retreat look like?\nYour weekend can look however you want! Each family unit (co-habitating) will reserve their own accommodations according to their needs. Food service will be available a la carte and will be picked up for each meal or you can bring your own food (full kitchens or kitchenettes available depending on accommodation). Activity/Devotion stations will be set up around Cedarkirk for your use and your weekend will include one Cedarkirk activity (rock wall\, zip line\, pool) per day. \nClick here for all Accommodations & Pricing \nAccommodation pictures \n\nWhat’s Included in my Reservation?\nWhen checking in\, all reservations will include suggested activities around camp\, camp devotions for you and your family to do\, a craft bin in each lodge for your creative side\, and access to outdoor spaces like the river\, prayer garden\, and Amory field. Your weekend retreat will include everything you need to spend time in a beautiful setting. \nBedding will not be provided\, please bring your own \nFood Service\nOur dining space will not be open\, however you may purchase a la carte meals from our kitchen to eat in your own space. Certain accommodation spaces have full kitchens and kitchenettes where you are welcome to bring your own meals. \nA la carte MENU \nActivities\nWe will only be facilitating one Cedarkirk activity (Rock wall\, Zip line\, Pool) per day\, where each family unit will sign up for their turn. High ropes\, canoeing\, or others activities will not be available. There will be many activities for you to do on your own\, like hiking\, disc golf\, playing in the river\, crafts\, hammocking\, sitting on the porch\, and more. Your reservation kit will include many suggested activities\, including devotions\, games\, activities\, and more! \nIf you’re looking for a weekend to get away\, feel refreshed\, and spend time outdoors\, this program is for you! For any questions\, please call or email. \nPlease read through the GUIDELINES before booking a reservation. \nFill out this REGISTRATION FORM and send it to Mark@cedarkirk.org. Feel free to email with any questions!
URL:https://cedarkirk.org/event/aweekendapart/
CATEGORIES:All Ages
END:VEVENT
BEGIN:VEVENT
DTSTART;TZID=America/New_York:20201002T160000
DTEND;TZID=America/New_York:20201004T140000
DTSTAMP:20260422T155055
CREATED:20200902T171152Z
LAST-MODIFIED:20200908T171309Z
UID:7306-1601654400-1601820000@cedarkirk.org
SUMMARY:A Weekend Apart
DESCRIPTION:We are excited to provide an opportunity for families and individuals to spend three special weekends at Cedarkirk this summer! Our offerings will be almost entirely self-contained for all to spend time in the outdoors and quality time in a new setting. \nWhat does a Retreat look like?\nYour weekend can look however you want! Each family unit (co-habitating) will reserve their own accommodations according to their needs. Food service will be available a la carte and will be picked up for each meal or you can bring your own food (full kitchens or kitchenettes available depending on accommodation). Activity/Devotion stations will be set up around Cedarkirk for your use and your weekend will include one Cedarkirk activity (rock wall\, zip line\, pool) per day. \nClick here for all Accommodations & Pricing \nAccommodation pictures \n\nWhat’s Included in my Reservation?\nWhen checking in\, all reservations will include suggested activities around camp\, camp devotions for you and your family to do\, a craft bin in each lodge for your creative side\, and access to outdoor spaces like the river\, prayer garden\, and Amory field. Your weekend retreat will include everything you need to spend time in a beautiful setting. \nBedding will not be provided\, please bring your own \nFood Service\nOur dining space will not be open\, however you may purchase a la carte meals from our kitchen to eat in your own space. Certain accommodation spaces have full kitchens and kitchenettes where you are welcome to bring your own meals. \nA la carte MENU \nActivities\nWe will only be facilitating one Cedarkirk activity (Rock wall\, Zip line\, Pool) per day\, where each family unit will sign up for their turn. High ropes\, canoeing\, or others activities will not be available. There will be many activities for you to do on your own\, like hiking\, disc golf\, playing in the river\, crafts\, hammocking\, sitting on the porch\, and more. Your reservation kit will include many suggested activities\, including devotions\, games\, activities\, and more! \nIf you’re looking for a weekend to get away\, feel refreshed\, and spend time outdoors\, this program is for you! For any questions\, please call or email. \nPlease read through the GUIDELINES before booking a reservation. \nFill out this REGISTRATION and send to Mark@cedarkirk.org\, email for any questions!
URL:https://cedarkirk.org/event/a-weekend-apart/
CATEGORIES:All Ages
END:VEVENT
END:VCALENDAR