BEGIN:VCALENDAR
VERSION:2.0
PRODID:-//Cedarkirk Camp &amp; Conference Center - ECPv6.15.17//NONSGML v1.0//EN
CALSCALE:GREGORIAN
METHOD:PUBLISH
X-WR-CALNAME:Cedarkirk Camp &amp; Conference Center
X-ORIGINAL-URL:https://cedarkirk.org
X-WR-CALDESC:Events for Cedarkirk Camp &amp; Conference Center
REFRESH-INTERVAL;VALUE=DURATION:PT1H
X-Robots-Tag:noindex
X-PUBLISHED-TTL:PT1H
BEGIN:VTIMEZONE
TZID:America/New_York
BEGIN:DAYLIGHT
TZOFFSETFROM:-0500
TZOFFSETTO:-0400
TZNAME:EDT
DTSTART:20240310T070000
END:DAYLIGHT
BEGIN:STANDARD
TZOFFSETFROM:-0400
TZOFFSETTO:-0500
TZNAME:EST
DTSTART:20241103T060000
END:STANDARD
BEGIN:DAYLIGHT
TZOFFSETFROM:-0500
TZOFFSETTO:-0400
TZNAME:EDT
DTSTART:20250309T070000
END:DAYLIGHT
BEGIN:STANDARD
TZOFFSETFROM:-0400
TZOFFSETTO:-0500
TZNAME:EST
DTSTART:20251102T060000
END:STANDARD
BEGIN:DAYLIGHT
TZOFFSETFROM:-0500
TZOFFSETTO:-0400
TZNAME:EDT
DTSTART:20260308T070000
END:DAYLIGHT
BEGIN:STANDARD
TZOFFSETFROM:-0400
TZOFFSETTO:-0500
TZNAME:EST
DTSTART:20261101T060000
END:STANDARD
END:VTIMEZONE
BEGIN:VEVENT
DTSTART;TZID=America/New_York:20251221T140000
DTEND;TZID=America/New_York:20251221T150000
DTSTAMP:20260423T050817
CREATED:20211210T195726Z
LAST-MODIFIED:20251217T144425Z
UID:8211-1766325600-1766329200@cedarkirk.org
SUMMARY:Annual Christmas Bake Sale
DESCRIPTION:It’s that time of year again – we’re baking your favorite homemade treats! If you’ve been craving a taste of camp\, now is your chance. It’s been a tradition since 2020 to share some love from our kitchen during the holiday season. \nSign up for whatever you’d like and we’ll bake your items fresh and have them ready to go for you. \nHow Does This Work? \n\nVisit this link and ORDER ONLINE. (All orders must be received by 11:59p on Dec. 18.)\nHead to Cedarkirk on December 21 to pick up your goodies between 2:00p and 3:00p.\n\nCedarkirk Camp and Conference Center\, 1920 Streetman Drive\, Lithia\, FL  33547\n\n\nPull up to Cedar Lodge and we’ll you hand you your treats. (Try not to eat them all on the drive home.)\n\nWe can’t wait to share some of our holiday favorites with you. \nIf you have any questions\, call Mark Orendorf at 813.685.4224 x3.
URL:https://cedarkirk.org/event/holiday-bake-sale/
LOCATION:Cedarkirk\, 1920 Streetman Drive\, Lithia\, FL\, 33594\, United States
CATEGORIES:All Ages
ATTACH;FMTTYPE=image/png:https://cedarkirk.org/wp-content/uploads/2025/12/Bake-Sale-Header-front-page.avif
END:VEVENT
END:VCALENDAR